BEGIN:VCALENDAR
VERSION:2.0
PRODID:-//Brunswick Main Street Farmers Market - ECPv6.15.20//NONSGML v1.0//EN
CALSCALE:GREGORIAN
METHOD:PUBLISH
X-ORIGINAL-URL:http://bmsfarmersmarket.com
X-WR-CALDESC:Events for Brunswick Main Street Farmers Market
REFRESH-INTERVAL;VALUE=DURATION:PT1H
X-Robots-Tag:noindex
X-PUBLISHED-TTL:PT1H
BEGIN:VTIMEZONE
TZID:UTC
BEGIN:STANDARD
TZOFFSETFROM:+0000
TZOFFSETTO:+0000
TZNAME:UTC
DTSTART:20220101T000000
END:STANDARD
END:VTIMEZONE
BEGIN:VEVENT
DTSTART;TZID=UTC:20240712T160000
DTEND;TZID=UTC:20240712T190000
DTSTAMP:20260423T220455
CREATED:20240306T194308Z
LAST-MODIFIED:20240306T201403Z
UID:6914-1720800000-1720810800@bmsfarmersmarket.com
SUMMARY:July Second Friday Market with M. R. Cheesecakes and Dino Delray
DESCRIPTION:Additional Details Coming Soon!
URL:http://bmsfarmersmarket.com/event/2024-07-12
LOCATION:Martins Creek Municipal Parking Lot\, E Potomac Street at 1st Avenue\, Brunswick\, MD\, 21716\, United States
CATEGORIES:Outdoor Farmers Market
ORGANIZER;CN="Brunswick Main Street Farmers Market":MAILTO:info@bmsfarmersmarket.com
END:VEVENT
BEGIN:VEVENT
DTSTART;TZID=UTC:20240628T160000
DTEND;TZID=UTC:20240628T190000
DTSTAMP:20260423T220455
CREATED:20240306T194308Z
LAST-MODIFIED:20240306T200313Z
UID:6913-1719590400-1719601200@bmsfarmersmarket.com
SUMMARY:June Last Friday Market with ThePitaKing and Mary Lynn
DESCRIPTION:Additional Details Coming Soon!
URL:http://bmsfarmersmarket.com/event/2024-06-28
LOCATION:Martins Creek Municipal Parking Lot\, E Potomac Street at 1st Avenue\, Brunswick\, MD\, 21716\, United States
CATEGORIES:Outdoor Farmers Market
ORGANIZER;CN="Brunswick Main Street Farmers Market":MAILTO:info@bmsfarmersmarket.com
END:VEVENT
BEGIN:VEVENT
DTSTART;TZID=UTC:20240614T160000
DTEND;TZID=UTC:20240614T190000
DTSTAMP:20260423T220455
CREATED:20240306T194305Z
LAST-MODIFIED:20240306T200040Z
UID:6912-1718380800-1718391600@bmsfarmersmarket.com
SUMMARY:June Second Friday Market with Whistle Punk Farm Food Truck and Theo
DESCRIPTION:Additional Details Coming Soon!
URL:http://bmsfarmersmarket.com/event/2024-06-14
LOCATION:Martins Creek Municipal Parking Lot\, E Potomac Street at 1st Avenue\, Brunswick\, MD\, 21716\, United States
CATEGORIES:Outdoor Farmers Market
ORGANIZER;CN="Brunswick Main Street Farmers Market":MAILTO:info@bmsfarmersmarket.com
END:VEVENT
BEGIN:VEVENT
DTSTART;TZID=UTC:20240531T160000
DTEND;TZID=UTC:20240531T190000
DTSTAMP:20260423T220455
CREATED:20240306T194305Z
LAST-MODIFIED:20240306T200000Z
UID:6911-1717171200-1717182000@bmsfarmersmarket.com
SUMMARY:May Last Friday Market with Sabor de Cuba and Tyler Thompson
DESCRIPTION:Additional Details Coming Soon!
URL:http://bmsfarmersmarket.com/event/2024-05-31
LOCATION:Martins Creek Municipal Parking Lot\, E Potomac Street at 1st Avenue\, Brunswick\, MD\, 21716\, United States
CATEGORIES:Outdoor Farmers Market
ORGANIZER;CN="Brunswick Main Street Farmers Market":MAILTO:info@bmsfarmersmarket.com
END:VEVENT
BEGIN:VEVENT
DTSTART;TZID=UTC:20240510T160000
DTEND;TZID=UTC:20240510T190000
DTSTAMP:20260423T220455
CREATED:20240306T194305Z
LAST-MODIFIED:20240404T220810Z
UID:6910-1715356800-1715367600@bmsfarmersmarket.com
SUMMARY:May Second Friday Market with M. R. Cheesecakes and Dino Delray
DESCRIPTION:Additional Details Coming Soon!
URL:http://bmsfarmersmarket.com/event/2024-05-10
LOCATION:Martins Creek Municipal Parking Lot\, E Potomac Street at 1st Avenue\, Brunswick\, MD\, 21716\, United States
CATEGORIES:Outdoor Farmers Market
ORGANIZER;CN="Brunswick Main Street Farmers Market":MAILTO:info@bmsfarmersmarket.com
END:VEVENT
BEGIN:VEVENT
DTSTART;TZID=UTC:20240426T160000
DTEND;TZID=UTC:20240426T190000
DTSTAMP:20260423T220455
CREATED:20240306T194304Z
LAST-MODIFIED:20240306T195833Z
UID:6909-1714147200-1714158000@bmsfarmersmarket.com
SUMMARY:April Last Friday Market with ThePitaKing and Dino Delray
DESCRIPTION:Additional Details Coming Soon!
URL:http://bmsfarmersmarket.com/event/2024-04-26
LOCATION:Martins Creek Municipal Parking Lot\, E Potomac Street at 1st Avenue\, Brunswick\, MD\, 21716\, United States
CATEGORIES:Outdoor Farmers Market
ORGANIZER;CN="Brunswick Main Street Farmers Market":MAILTO:info@bmsfarmersmarket.com
END:VEVENT
BEGIN:VEVENT
DTSTART;TZID=UTC:20240412T160000
DTEND;TZID=UTC:20240412T190000
DTSTAMP:20260423T220455
CREATED:20240306T194304Z
LAST-MODIFIED:20240306T195756Z
UID:6908-1712937600-1712948400@bmsfarmersmarket.com
SUMMARY:2024 Opening Day with Whistle Punk Farm Food Truck and Theo
DESCRIPTION:Additional Details Coming Soon!
URL:http://bmsfarmersmarket.com/event/2024-04-12
LOCATION:Martins Creek Municipal Parking Lot\, E Potomac Street at 1st Avenue\, Brunswick\, MD\, 21716\, United States
CATEGORIES:Outdoor Farmers Market
ORGANIZER;CN="Brunswick Main Street Farmers Market":MAILTO:info@bmsfarmersmarket.com
END:VEVENT
BEGIN:VEVENT
DTSTART;TZID=UTC:20240309T160000
DTEND;TZID=UTC:20240309T190000
DTSTAMP:20260423T220455
CREATED:20240108T212830Z
LAST-MODIFIED:20240108T212953Z
UID:6867-1710000000-1710010800@bmsfarmersmarket.com
SUMMARY:March Pop-Up Indoor Market
DESCRIPTION:Discover a curated selection of seasonal delights from local farmers and artisans\, bringing the warmth of community to you at this cozy indoor farmers market pop-up shopping experience.
URL:http://bmsfarmersmarket.com/event/march-pop-up-market
LOCATION:Kaplon Building\, 102 W Potomac St\, Brunswick\, MD\, 21716
CATEGORIES:Indoor Farmers Market
ORGANIZER;CN="Brunswick Main Street Farmers Market":MAILTO:info@bmsfarmersmarket.com
END:VEVENT
BEGIN:VEVENT
DTSTART;TZID=UTC:20240210T160000
DTEND;TZID=UTC:20240210T190000
DTSTAMP:20260423T220455
CREATED:20240108T212753Z
LAST-MODIFIED:20240108T212942Z
UID:6865-1707580800-1707591600@bmsfarmersmarket.com
SUMMARY:February Pop-Up Indoor Market
DESCRIPTION:Discover a curated selection of seasonal delights from local farmers and artisans\, bringing the warmth of community to you at this cozy indoor farmers market pop-up shopping experience.
URL:http://bmsfarmersmarket.com/event/february-pop-up-market
LOCATION:Kaplon Building\, 102 W Potomac St\, Brunswick\, MD\, 21716
CATEGORIES:Indoor Farmers Market
ORGANIZER;CN="Brunswick Main Street Farmers Market":MAILTO:info@bmsfarmersmarket.com
END:VEVENT
BEGIN:VEVENT
DTSTART;TZID=UTC:20240112T160000
DTEND;TZID=UTC:20240112T190000
DTSTAMP:20260423T220455
CREATED:20240108T212536Z
LAST-MODIFIED:20240108T213009Z
UID:6862-1705075200-1705086000@bmsfarmersmarket.com
SUMMARY:January Pop-Up Indoor Market
DESCRIPTION:Discover a curated selection of seasonal delights from local farmers and artisans\, bringing the warmth of community to you at this cozy indoor farmers market pop-up shopping experience.
URL:http://bmsfarmersmarket.com/event/january-pop-up-market
LOCATION:Kaplon Building\, 102 W Potomac St\, Brunswick\, MD\, 21716
CATEGORIES:Indoor Farmers Market
ORGANIZER;CN="Brunswick Main Street Farmers Market":MAILTO:info@bmsfarmersmarket.com
END:VEVENT
BEGIN:VEVENT
DTSTART;TZID=UTC:20230929T160000
DTEND;TZID=UTC:20230929T190000
DTSTAMP:20260423T220455
CREATED:20221026T203411Z
LAST-MODIFIED:20221026T203411Z
UID:45-1696003200-1696014000@bmsfarmersmarket.com
SUMMARY:September Last Friday Market
DESCRIPTION:Food Truck and Entertainment Information Coming Soon!
URL:http://bmsfarmersmarket.com/event/september-last-friday-market
CATEGORIES:Outdoor Farmers Market
ORGANIZER;CN="Brunswick Main Street Farmers Market":MAILTO:info@bmsfarmersmarket.com
END:VEVENT
BEGIN:VEVENT
DTSTART;TZID=UTC:20230908T160000
DTEND;TZID=UTC:20230908T190000
DTSTAMP:20260423T220455
CREATED:20221026T203411Z
LAST-MODIFIED:20221026T203411Z
UID:44-1694188800-1694199600@bmsfarmersmarket.com
SUMMARY:September Second Friday Market
DESCRIPTION:Food Truck and Entertainment Information Coming Soon!
URL:http://bmsfarmersmarket.com/event/september-second-friday-market
CATEGORIES:Outdoor Farmers Market
ORGANIZER;CN="Brunswick Main Street Farmers Market":MAILTO:info@bmsfarmersmarket.com
END:VEVENT
BEGIN:VEVENT
DTSTART;TZID=UTC:20230825T160000
DTEND;TZID=UTC:20230825T190000
DTSTAMP:20260423T220455
CREATED:20221026T203411Z
LAST-MODIFIED:20221026T203411Z
UID:43-1692979200-1692990000@bmsfarmersmarket.com
SUMMARY:August Last Friday Market
DESCRIPTION:Food Truck and Entertainment Information Coming Soon!
URL:http://bmsfarmersmarket.com/event/august-last-friday-market
CATEGORIES:Outdoor Farmers Market
ORGANIZER;CN="Brunswick Main Street Farmers Market":MAILTO:info@bmsfarmersmarket.com
END:VEVENT
BEGIN:VEVENT
DTSTART;TZID=UTC:20230811T160000
DTEND;TZID=UTC:20230811T190000
DTSTAMP:20260423T220455
CREATED:20221026T203411Z
LAST-MODIFIED:20221026T203411Z
UID:42-1691769600-1691780400@bmsfarmersmarket.com
SUMMARY:August Second Friday Market
DESCRIPTION:Food Truck and Entertainment Information Coming Soon!
URL:http://bmsfarmersmarket.com/event/august-second-friday-market
CATEGORIES:Outdoor Farmers Market
ORGANIZER;CN="Brunswick Main Street Farmers Market":MAILTO:info@bmsfarmersmarket.com
END:VEVENT
BEGIN:VEVENT
DTSTART;TZID=UTC:20230728T160000
DTEND;TZID=UTC:20230728T190000
DTSTAMP:20260423T220455
CREATED:20221026T203410Z
LAST-MODIFIED:20221026T203410Z
UID:41-1690560000-1690570800@bmsfarmersmarket.com
SUMMARY:July Last Friday Market
DESCRIPTION:Food Truck and Entertainment Information Coming Soon!
URL:http://bmsfarmersmarket.com/event/july-last-friday-market
CATEGORIES:Outdoor Farmers Market
ORGANIZER;CN="Brunswick Main Street Farmers Market":MAILTO:info@bmsfarmersmarket.com
END:VEVENT
BEGIN:VEVENT
DTSTART;TZID=UTC:20230714T160000
DTEND;TZID=UTC:20230714T190000
DTSTAMP:20260423T220455
CREATED:20221026T203410Z
LAST-MODIFIED:20221026T203410Z
UID:40-1689350400-1689361200@bmsfarmersmarket.com
SUMMARY:July Second Friday Market
DESCRIPTION:Food Truck and Entertainment Information Coming Soon!
URL:http://bmsfarmersmarket.com/event/july-second-friday-market
CATEGORIES:Outdoor Farmers Market
ORGANIZER;CN="Brunswick Main Street Farmers Market":MAILTO:info@bmsfarmersmarket.com
END:VEVENT
BEGIN:VEVENT
DTSTART;TZID=UTC:20230630T160000
DTEND;TZID=UTC:20230630T190000
DTSTAMP:20260423T220455
CREATED:20221026T203409Z
LAST-MODIFIED:20221026T203409Z
UID:39-1688140800-1688151600@bmsfarmersmarket.com
SUMMARY:June Last Friday Market
DESCRIPTION:Food Truck and Entertainment Information Coming Soon!
URL:http://bmsfarmersmarket.com/event/june-last-friday-market
CATEGORIES:Outdoor Farmers Market
ORGANIZER;CN="Brunswick Main Street Farmers Market":MAILTO:info@bmsfarmersmarket.com
END:VEVENT
BEGIN:VEVENT
DTSTART;TZID=UTC:20230526T160000
DTEND;TZID=UTC:20230526T190000
DTSTAMP:20260423T220455
CREATED:20221026T203409Z
LAST-MODIFIED:20230201T201548Z
UID:37-1685116800-1685127600@bmsfarmersmarket.com
SUMMARY:May Last Friday Market with Eternal Love and Pizza
DESCRIPTION:Food Truck and Entertainment Information Coming Soon!
URL:http://bmsfarmersmarket.com/event/may-last-friday-market
CATEGORIES:Outdoor Farmers Market
ORGANIZER;CN="Brunswick Main Street Farmers Market":MAILTO:info@bmsfarmersmarket.com
END:VEVENT
BEGIN:VEVENT
DTSTART;TZID=UTC:20230512T160000
DTEND;TZID=UTC:20230512T190000
DTSTAMP:20260423T220455
CREATED:20221026T203409Z
LAST-MODIFIED:20230201T201504Z
UID:36-1683907200-1683918000@bmsfarmersmarket.com
SUMMARY:Opening Day with Grilled Cheese Please
DESCRIPTION:Food Truck and Entertainment Information Coming Soon!
URL:http://bmsfarmersmarket.com/event/may-second-friday-market-opening-day
CATEGORIES:Outdoor Farmers Market
ORGANIZER;CN="Brunswick Main Street Farmers Market":MAILTO:info@bmsfarmersmarket.com
END:VEVENT
END:VCALENDAR