BEGIN:VCALENDAR
VERSION:2.0
PRODID:-//Brunswick Main Street Farmers Market - ECPv6.15.20//NONSGML v1.0//EN
CALSCALE:GREGORIAN
METHOD:PUBLISH
X-ORIGINAL-URL:http://bmsfarmersmarket.com
X-WR-CALDESC:Events for Brunswick Main Street Farmers Market
REFRESH-INTERVAL;VALUE=DURATION:PT1H
X-Robots-Tag:noindex
X-PUBLISHED-TTL:PT1H
BEGIN:VTIMEZONE
TZID:UTC
BEGIN:STANDARD
TZOFFSETFROM:+0000
TZOFFSETTO:+0000
TZNAME:UTC
DTSTART:20230101T000000
END:STANDARD
END:VTIMEZONE
BEGIN:VEVENT
DTSTART;TZID=UTC:20250808T160000
DTEND;TZID=UTC:20250808T190000
DTSTAMP:20260423T201120
CREATED:20250421T214116Z
LAST-MODIFIED:20250421T214116Z
UID:7068-1754668800-1754679600@bmsfarmersmarket.com
SUMMARY:Outdoor Market with Grilled Cheese Please and Dino Delray
DESCRIPTION:See Social Media for Updates and Additional Details!
URL:http://bmsfarmersmarket.com/event/outdoor-market-with-grilled-cheese-please-and-dino-delray
LOCATION:MD
CATEGORIES:Outdoor Farmers Market
ORGANIZER;CN="Brunswick Main Street Farmers Market":MAILTO:info@bmsfarmersmarket.com
END:VEVENT
BEGIN:VEVENT
DTSTART;TZID=UTC:20250725T160000
DTEND;TZID=UTC:20250725T190000
DTSTAMP:20260423T201120
CREATED:20250421T214116Z
LAST-MODIFIED:20250421T214116Z
UID:7067-1753459200-1753470000@bmsfarmersmarket.com
SUMMARY:Outdoor Market with MR Cheesecakes and Music by Mark Eastman
DESCRIPTION:See Social Media for Updates and Additional Details!
URL:http://bmsfarmersmarket.com/event/outdoor-market-with-mr-cheesecakes-and-music-by-mark-eastman
LOCATION:MD
CATEGORIES:Outdoor Farmers Market
ORGANIZER;CN="Brunswick Main Street Farmers Market":MAILTO:info@bmsfarmersmarket.com
END:VEVENT
BEGIN:VEVENT
DTSTART;TZID=UTC:20250711T160000
DTEND;TZID=UTC:20250711T190000
DTSTAMP:20260423T201120
CREATED:20250421T214115Z
LAST-MODIFIED:20250421T214115Z
UID:7066-1752249600-1752260400@bmsfarmersmarket.com
SUMMARY:Outdoor Market with Strokers BBQ and Nick Carras
DESCRIPTION:See Social Media for Updates and Additional Details!
URL:http://bmsfarmersmarket.com/event/outdoor-market-with-strokers-bbq-and-nick-carras
LOCATION:MD
CATEGORIES:Outdoor Farmers Market
ORGANIZER;CN="Brunswick Main Street Farmers Market":MAILTO:info@bmsfarmersmarket.com
END:VEVENT
BEGIN:VEVENT
DTSTART;TZID=UTC:20250627T160000
DTEND;TZID=UTC:20250627T190000
DTSTAMP:20260423T201120
CREATED:20250421T214115Z
LAST-MODIFIED:20250421T214115Z
UID:7065-1751040000-1751050800@bmsfarmersmarket.com
SUMMARY:Outdoor Market with ThePitaKing and Theo
DESCRIPTION:See Social Media for Updates and Additional Details!
URL:http://bmsfarmersmarket.com/event/outdoor-market-with-thepitaking-and-theo
LOCATION:MD
CATEGORIES:Outdoor Farmers Market
ORGANIZER;CN="Brunswick Main Street Farmers Market":MAILTO:info@bmsfarmersmarket.com
END:VEVENT
BEGIN:VEVENT
DTSTART;TZID=UTC:20250613T160000
DTEND;TZID=UTC:20250613T190000
DTSTAMP:20260423T201120
CREATED:20250421T214114Z
LAST-MODIFIED:20250421T214114Z
UID:7064-1749830400-1749841200@bmsfarmersmarket.com
SUMMARY:Outdoor Market with Cielito Lindo and Kate Smiles Music
DESCRIPTION:See Social Media for Updates and Additional Details!
URL:http://bmsfarmersmarket.com/event/outdoor-market-with-cielito-lindo-and-kate-smiles-music
LOCATION:MD
CATEGORIES:Outdoor Farmers Market
ORGANIZER;CN="Brunswick Main Street Farmers Market":MAILTO:info@bmsfarmersmarket.com
END:VEVENT
BEGIN:VEVENT
DTSTART;TZID=UTC:20250530T160000
DTEND;TZID=UTC:20250530T190000
DTSTAMP:20260423T201120
CREATED:20250421T214114Z
LAST-MODIFIED:20250421T214114Z
UID:7063-1748620800-1748631600@bmsfarmersmarket.com
SUMMARY:Outdoor Market with Wonderbowls and Music by Mark Eastman
DESCRIPTION:See Social Media for Updates and Additional Details!
URL:http://bmsfarmersmarket.com/event/outdoor-market-with-wonderbowls-and-music-by-mark-eastman
LOCATION:MD
CATEGORIES:Outdoor Farmers Market
ORGANIZER;CN="Brunswick Main Street Farmers Market":MAILTO:info@bmsfarmersmarket.com
END:VEVENT
BEGIN:VEVENT
DTSTART;TZID=UTC:20250509T160000
DTEND;TZID=UTC:20250509T190000
DTSTAMP:20260423T201120
CREATED:20250421T214113Z
LAST-MODIFIED:20250421T214113Z
UID:7062-1746806400-1746817200@bmsfarmersmarket.com
SUMMARY:Outdoor Market with MR Cheesecakes and Dino Delray
DESCRIPTION:See Social Media for Updates and Additional Details!
URL:http://bmsfarmersmarket.com/event/outdoor-market-with-mr-cheesecakes-and-dino-delray
LOCATION:MD
CATEGORIES:Outdoor Farmers Market
ORGANIZER;CN="Brunswick Main Street Farmers Market":MAILTO:info@bmsfarmersmarket.com
END:VEVENT
BEGIN:VEVENT
DTSTART;TZID=UTC:20250425T160000
DTEND;TZID=UTC:20250425T190000
DTSTAMP:20260423T201120
CREATED:20250421T214113Z
LAST-MODIFIED:20250421T214113Z
UID:7061-1745596800-1745607600@bmsfarmersmarket.com
SUMMARY:Outdoor Market with BBQ & Tech and Theo
DESCRIPTION:See Social Media for Updates and Additional Details!
URL:http://bmsfarmersmarket.com/event/outdoor-market-with-bbq-tech-and-theo
LOCATION:MD
CATEGORIES:Outdoor Farmers Market
ORGANIZER;CN="Brunswick Main Street Farmers Market":MAILTO:info@bmsfarmersmarket.com
END:VEVENT
BEGIN:VEVENT
DTSTART;TZID=UTC:20250411T160000
DTEND;TZID=UTC:20250411T190000
DTSTAMP:20260423T201120
CREATED:20250421T214113Z
LAST-MODIFIED:20250421T214113Z
UID:7060-1744387200-1744398000@bmsfarmersmarket.com
SUMMARY:2025 Opening Day with Grilled Cheese Please and Theo
DESCRIPTION:See Social Media for Updates and Additional Details!
URL:http://bmsfarmersmarket.com/event/2025-opening-day-with-grilled-cheese-please-and-theo
LOCATION:MD
CATEGORIES:Outdoor Farmers Market
ORGANIZER;CN="Brunswick Main Street Farmers Market":MAILTO:info@bmsfarmersmarket.com
END:VEVENT
BEGIN:VEVENT
DTSTART;TZID=UTC:20250314T160000
DTEND;TZID=UTC:20250314T190000
DTSTAMP:20260423T201120
CREATED:20241106T201924Z
LAST-MODIFIED:20241106T201924Z
UID:7002-1741968000-1741978800@bmsfarmersmarket.com
SUMMARY:Pop-Up Indoor Market
DESCRIPTION:Additional Details Coming Soon!
URL:http://bmsfarmersmarket.com/event/pop-up-indoor-market-4
LOCATION:Kaplon Building\, 102 W Potomac St\, Brunswick\, MD\, 21716
CATEGORIES:Indoor Farmers Market
ORGANIZER;CN="Brunswick Main Street Farmers Market":MAILTO:info@bmsfarmersmarket.com
END:VEVENT
BEGIN:VEVENT
DTSTART;TZID=UTC:20250214T160000
DTEND;TZID=UTC:20250214T190000
DTSTAMP:20260423T201120
CREATED:20241106T201924Z
LAST-MODIFIED:20241106T201924Z
UID:7001-1739548800-1739559600@bmsfarmersmarket.com
SUMMARY:Pop-Up Indoor Market
DESCRIPTION:Additional Details Coming Soon!
URL:http://bmsfarmersmarket.com/event/pop-up-indoor-market-3
LOCATION:Kaplon Building\, 102 W Potomac St\, Brunswick\, MD\, 21716
CATEGORIES:Indoor Farmers Market
ORGANIZER;CN="Brunswick Main Street Farmers Market":MAILTO:info@bmsfarmersmarket.com
END:VEVENT
BEGIN:VEVENT
DTSTART;TZID=UTC:20250110T160000
DTEND;TZID=UTC:20250110T190000
DTSTAMP:20260423T201120
CREATED:20241106T201924Z
LAST-MODIFIED:20241106T201924Z
UID:7000-1736524800-1736535600@bmsfarmersmarket.com
SUMMARY:Pop-Up Indoor Market
DESCRIPTION:Additional Details Coming Soon!
URL:http://bmsfarmersmarket.com/event/pop-up-indoor-market-2
LOCATION:Kaplon Building\, 102 W Potomac St\, Brunswick\, MD\, 21716
CATEGORIES:Indoor Farmers Market
ORGANIZER;CN="Brunswick Main Street Farmers Market":MAILTO:info@bmsfarmersmarket.com
END:VEVENT
BEGIN:VEVENT
DTSTART;TZID=UTC:20241213T160000
DTEND;TZID=UTC:20241213T190000
DTSTAMP:20260423T201120
CREATED:20241106T201923Z
LAST-MODIFIED:20241106T201923Z
UID:6999-1734105600-1734116400@bmsfarmersmarket.com
SUMMARY:Pop-Up Indoor Market
DESCRIPTION:Additional Details Coming Soon!
URL:http://bmsfarmersmarket.com/event/pop-up-indoor-market
LOCATION:Kaplon Building\, 102 W Potomac St\, Brunswick\, MD\, 21716
CATEGORIES:Indoor Farmers Market
ORGANIZER;CN="Brunswick Main Street Farmers Market":MAILTO:info@bmsfarmersmarket.com
END:VEVENT
BEGIN:VEVENT
DTSTART;TZID=UTC:20241025T160000
DTEND;TZID=UTC:20241025T190000
DTSTAMP:20260423T201120
CREATED:20240306T194324Z
LAST-MODIFIED:20240306T201928Z
UID:6921-1729872000-1729882800@bmsfarmersmarket.com
SUMMARY:Closing Day with Whistle Punk Farm Food Truck
DESCRIPTION:Additional Details Coming Soon!
URL:http://bmsfarmersmarket.com/event/2024-10-25
LOCATION:Martins Creek Municipal Parking Lot\, E Potomac Street at 1st Avenue\, Brunswick\, MD\, 21716\, United States
CATEGORIES:Outdoor Farmers Market
ORGANIZER;CN="Brunswick Main Street Farmers Market":MAILTO:info@bmsfarmersmarket.com
END:VEVENT
BEGIN:VEVENT
DTSTART;TZID=UTC:20241011T160000
DTEND;TZID=UTC:20241011T190000
DTSTAMP:20260423T201120
CREATED:20240306T194324Z
LAST-MODIFIED:20240306T201847Z
UID:6920-1728662400-1728673200@bmsfarmersmarket.com
SUMMARY:October Second Friday Market with Sabor de Cuba and Mary Lynn
DESCRIPTION:Additional Details Coming Soon!
URL:http://bmsfarmersmarket.com/event/2024-10-11
LOCATION:Martins Creek Municipal Parking Lot\, E Potomac Street at 1st Avenue\, Brunswick\, MD\, 21716\, United States
CATEGORIES:Outdoor Farmers Market
ORGANIZER;CN="Brunswick Main Street Farmers Market":MAILTO:info@bmsfarmersmarket.com
END:VEVENT
BEGIN:VEVENT
DTSTART;TZID=UTC:20240927T160000
DTEND;TZID=UTC:20240927T190000
DTSTAMP:20260423T201120
CREATED:20240306T194323Z
LAST-MODIFIED:20240306T201751Z
UID:6919-1727452800-1727463600@bmsfarmersmarket.com
SUMMARY:September Last Friday Market with Sabor de Cuba and Dino Delray
DESCRIPTION:Additional Details Coming Soon!
URL:http://bmsfarmersmarket.com/event/2024-09-27
LOCATION:Martins Creek Municipal Parking Lot\, E Potomac Street at 1st Avenue\, Brunswick\, MD\, 21716\, United States
CATEGORIES:Outdoor Farmers Market
ORGANIZER;CN="Brunswick Main Street Farmers Market":MAILTO:info@bmsfarmersmarket.com
END:VEVENT
BEGIN:VEVENT
DTSTART;TZID=UTC:20240913T160000
DTEND;TZID=UTC:20240913T190000
DTSTAMP:20260423T201120
CREATED:20240306T194323Z
LAST-MODIFIED:20240306T201706Z
UID:6918-1726243200-1726254000@bmsfarmersmarket.com
SUMMARY:September Second Friday Market with M. R. Cheesecakes and Kate Smiles Music
DESCRIPTION:Additional Details Coming Soon!
URL:http://bmsfarmersmarket.com/event/2024-09-13
LOCATION:Martins Creek Municipal Parking Lot\, E Potomac Street at 1st Avenue\, Brunswick\, MD\, 21716\, United States
CATEGORIES:Outdoor Farmers Market
ORGANIZER;CN="Brunswick Main Street Farmers Market":MAILTO:info@bmsfarmersmarket.com
END:VEVENT
BEGIN:VEVENT
DTSTART;TZID=UTC:20240830T160000
DTEND;TZID=UTC:20240830T190000
DTSTAMP:20260423T201120
CREATED:20240306T194309Z
LAST-MODIFIED:20240306T201622Z
UID:6917-1725033600-1725044400@bmsfarmersmarket.com
SUMMARY:August Last Friday Market with ThePitaKing and Jesse Beiler-Scobie
DESCRIPTION:Additional Details Coming Soon!
URL:http://bmsfarmersmarket.com/event/2024-08-30
LOCATION:Martins Creek Municipal Parking Lot\, E Potomac Street at 1st Avenue\, Brunswick\, MD\, 21716\, United States
CATEGORIES:Outdoor Farmers Market
ORGANIZER;CN="Brunswick Main Street Farmers Market":MAILTO:info@bmsfarmersmarket.com
END:VEVENT
BEGIN:VEVENT
DTSTART;TZID=UTC:20240809T160000
DTEND;TZID=UTC:20240809T190000
DTSTAMP:20260423T201120
CREATED:20240306T194309Z
LAST-MODIFIED:20240306T201545Z
UID:6916-1723219200-1723230000@bmsfarmersmarket.com
SUMMARY:August Second Friday Market with Whistle Punk Farm Food Truck and Theo
DESCRIPTION:Additional Details Coming Soon!
URL:http://bmsfarmersmarket.com/event/2024-08-09
LOCATION:Martins Creek Municipal Parking Lot\, E Potomac Street at 1st Avenue\, Brunswick\, MD\, 21716\, United States
CATEGORIES:Outdoor Farmers Market
ORGANIZER;CN="Brunswick Main Street Farmers Market":MAILTO:info@bmsfarmersmarket.com
END:VEVENT
BEGIN:VEVENT
DTSTART;TZID=UTC:20240726T160000
DTEND;TZID=UTC:20240726T190000
DTSTAMP:20260423T201120
CREATED:20240306T194308Z
LAST-MODIFIED:20240306T201515Z
UID:6915-1722009600-1722020400@bmsfarmersmarket.com
SUMMARY:July Second Friday Market with Sabor de Cuba and Nick Carras
DESCRIPTION:Additional Details Coming Soon!
URL:http://bmsfarmersmarket.com/event/2024-07-26
LOCATION:Martins Creek Municipal Parking Lot\, E Potomac Street at 1st Avenue\, Brunswick\, MD\, 21716\, United States
CATEGORIES:Outdoor Farmers Market
ORGANIZER;CN="Brunswick Main Street Farmers Market":MAILTO:info@bmsfarmersmarket.com
END:VEVENT
BEGIN:VEVENT
DTSTART;TZID=UTC:20240712T160000
DTEND;TZID=UTC:20240712T190000
DTSTAMP:20260423T201120
CREATED:20240306T194308Z
LAST-MODIFIED:20240306T201403Z
UID:6914-1720800000-1720810800@bmsfarmersmarket.com
SUMMARY:July Second Friday Market with M. R. Cheesecakes and Dino Delray
DESCRIPTION:Additional Details Coming Soon!
URL:http://bmsfarmersmarket.com/event/2024-07-12
LOCATION:Martins Creek Municipal Parking Lot\, E Potomac Street at 1st Avenue\, Brunswick\, MD\, 21716\, United States
CATEGORIES:Outdoor Farmers Market
ORGANIZER;CN="Brunswick Main Street Farmers Market":MAILTO:info@bmsfarmersmarket.com
END:VEVENT
BEGIN:VEVENT
DTSTART;TZID=UTC:20240628T160000
DTEND;TZID=UTC:20240628T190000
DTSTAMP:20260423T201120
CREATED:20240306T194308Z
LAST-MODIFIED:20240306T200313Z
UID:6913-1719590400-1719601200@bmsfarmersmarket.com
SUMMARY:June Last Friday Market with ThePitaKing and Mary Lynn
DESCRIPTION:Additional Details Coming Soon!
URL:http://bmsfarmersmarket.com/event/2024-06-28
LOCATION:Martins Creek Municipal Parking Lot\, E Potomac Street at 1st Avenue\, Brunswick\, MD\, 21716\, United States
CATEGORIES:Outdoor Farmers Market
ORGANIZER;CN="Brunswick Main Street Farmers Market":MAILTO:info@bmsfarmersmarket.com
END:VEVENT
BEGIN:VEVENT
DTSTART;TZID=UTC:20240614T160000
DTEND;TZID=UTC:20240614T190000
DTSTAMP:20260423T201120
CREATED:20240306T194305Z
LAST-MODIFIED:20240306T200040Z
UID:6912-1718380800-1718391600@bmsfarmersmarket.com
SUMMARY:June Second Friday Market with Whistle Punk Farm Food Truck and Theo
DESCRIPTION:Additional Details Coming Soon!
URL:http://bmsfarmersmarket.com/event/2024-06-14
LOCATION:Martins Creek Municipal Parking Lot\, E Potomac Street at 1st Avenue\, Brunswick\, MD\, 21716\, United States
CATEGORIES:Outdoor Farmers Market
ORGANIZER;CN="Brunswick Main Street Farmers Market":MAILTO:info@bmsfarmersmarket.com
END:VEVENT
BEGIN:VEVENT
DTSTART;TZID=UTC:20240531T160000
DTEND;TZID=UTC:20240531T190000
DTSTAMP:20260423T201120
CREATED:20240306T194305Z
LAST-MODIFIED:20240306T200000Z
UID:6911-1717171200-1717182000@bmsfarmersmarket.com
SUMMARY:May Last Friday Market with Sabor de Cuba and Tyler Thompson
DESCRIPTION:Additional Details Coming Soon!
URL:http://bmsfarmersmarket.com/event/2024-05-31
LOCATION:Martins Creek Municipal Parking Lot\, E Potomac Street at 1st Avenue\, Brunswick\, MD\, 21716\, United States
CATEGORIES:Outdoor Farmers Market
ORGANIZER;CN="Brunswick Main Street Farmers Market":MAILTO:info@bmsfarmersmarket.com
END:VEVENT
BEGIN:VEVENT
DTSTART;TZID=UTC:20240510T160000
DTEND;TZID=UTC:20240510T190000
DTSTAMP:20260423T201120
CREATED:20240306T194305Z
LAST-MODIFIED:20240404T220810Z
UID:6910-1715356800-1715367600@bmsfarmersmarket.com
SUMMARY:May Second Friday Market with M. R. Cheesecakes and Dino Delray
DESCRIPTION:Additional Details Coming Soon!
URL:http://bmsfarmersmarket.com/event/2024-05-10
LOCATION:Martins Creek Municipal Parking Lot\, E Potomac Street at 1st Avenue\, Brunswick\, MD\, 21716\, United States
CATEGORIES:Outdoor Farmers Market
ORGANIZER;CN="Brunswick Main Street Farmers Market":MAILTO:info@bmsfarmersmarket.com
END:VEVENT
BEGIN:VEVENT
DTSTART;TZID=UTC:20240426T160000
DTEND;TZID=UTC:20240426T190000
DTSTAMP:20260423T201120
CREATED:20240306T194304Z
LAST-MODIFIED:20240306T195833Z
UID:6909-1714147200-1714158000@bmsfarmersmarket.com
SUMMARY:April Last Friday Market with ThePitaKing and Dino Delray
DESCRIPTION:Additional Details Coming Soon!
URL:http://bmsfarmersmarket.com/event/2024-04-26
LOCATION:Martins Creek Municipal Parking Lot\, E Potomac Street at 1st Avenue\, Brunswick\, MD\, 21716\, United States
CATEGORIES:Outdoor Farmers Market
ORGANIZER;CN="Brunswick Main Street Farmers Market":MAILTO:info@bmsfarmersmarket.com
END:VEVENT
BEGIN:VEVENT
DTSTART;TZID=UTC:20240412T160000
DTEND;TZID=UTC:20240412T190000
DTSTAMP:20260423T201120
CREATED:20240306T194304Z
LAST-MODIFIED:20240306T195756Z
UID:6908-1712937600-1712948400@bmsfarmersmarket.com
SUMMARY:2024 Opening Day with Whistle Punk Farm Food Truck and Theo
DESCRIPTION:Additional Details Coming Soon!
URL:http://bmsfarmersmarket.com/event/2024-04-12
LOCATION:Martins Creek Municipal Parking Lot\, E Potomac Street at 1st Avenue\, Brunswick\, MD\, 21716\, United States
CATEGORIES:Outdoor Farmers Market
ORGANIZER;CN="Brunswick Main Street Farmers Market":MAILTO:info@bmsfarmersmarket.com
END:VEVENT
BEGIN:VEVENT
DTSTART;TZID=UTC:20240309T160000
DTEND;TZID=UTC:20240309T190000
DTSTAMP:20260423T201120
CREATED:20240108T212830Z
LAST-MODIFIED:20240108T212953Z
UID:6867-1710000000-1710010800@bmsfarmersmarket.com
SUMMARY:March Pop-Up Indoor Market
DESCRIPTION:Discover a curated selection of seasonal delights from local farmers and artisans\, bringing the warmth of community to you at this cozy indoor farmers market pop-up shopping experience.
URL:http://bmsfarmersmarket.com/event/march-pop-up-market
LOCATION:Kaplon Building\, 102 W Potomac St\, Brunswick\, MD\, 21716
CATEGORIES:Indoor Farmers Market
ORGANIZER;CN="Brunswick Main Street Farmers Market":MAILTO:info@bmsfarmersmarket.com
END:VEVENT
BEGIN:VEVENT
DTSTART;TZID=UTC:20240210T160000
DTEND;TZID=UTC:20240210T190000
DTSTAMP:20260423T201120
CREATED:20240108T212753Z
LAST-MODIFIED:20240108T212942Z
UID:6865-1707580800-1707591600@bmsfarmersmarket.com
SUMMARY:February Pop-Up Indoor Market
DESCRIPTION:Discover a curated selection of seasonal delights from local farmers and artisans\, bringing the warmth of community to you at this cozy indoor farmers market pop-up shopping experience.
URL:http://bmsfarmersmarket.com/event/february-pop-up-market
LOCATION:Kaplon Building\, 102 W Potomac St\, Brunswick\, MD\, 21716
CATEGORIES:Indoor Farmers Market
ORGANIZER;CN="Brunswick Main Street Farmers Market":MAILTO:info@bmsfarmersmarket.com
END:VEVENT
BEGIN:VEVENT
DTSTART;TZID=UTC:20240112T160000
DTEND;TZID=UTC:20240112T190000
DTSTAMP:20260423T201120
CREATED:20240108T212536Z
LAST-MODIFIED:20240108T213009Z
UID:6862-1705075200-1705086000@bmsfarmersmarket.com
SUMMARY:January Pop-Up Indoor Market
DESCRIPTION:Discover a curated selection of seasonal delights from local farmers and artisans\, bringing the warmth of community to you at this cozy indoor farmers market pop-up shopping experience.
URL:http://bmsfarmersmarket.com/event/january-pop-up-market
LOCATION:Kaplon Building\, 102 W Potomac St\, Brunswick\, MD\, 21716
CATEGORIES:Indoor Farmers Market
ORGANIZER;CN="Brunswick Main Street Farmers Market":MAILTO:info@bmsfarmersmarket.com
END:VEVENT
END:VCALENDAR