BEGIN:VCALENDAR
VERSION:2.0
PRODID:-//Brunswick Main Street Farmers Market - ECPv6.15.20//NONSGML v1.0//EN
CALSCALE:GREGORIAN
METHOD:PUBLISH
X-WR-CALNAME:Brunswick Main Street Farmers Market
X-ORIGINAL-URL:http://bmsfarmersmarket.com
X-WR-CALDESC:Events for Brunswick Main Street Farmers Market
REFRESH-INTERVAL;VALUE=DURATION:PT1H
X-Robots-Tag:noindex
X-PUBLISHED-TTL:PT1H
BEGIN:VTIMEZONE
TZID:UTC
BEGIN:STANDARD
TZOFFSETFROM:+0000
TZOFFSETTO:+0000
TZNAME:UTC
DTSTART:20250101T000000
END:STANDARD
END:VTIMEZONE
BEGIN:VEVENT
DTSTART;TZID=UTC:20260911T160000
DTEND;TZID=UTC:20260911T190000
DTSTAMP:20260423T232054
CREATED:20260402T235531Z
LAST-MODIFIED:20260402T235906Z
UID:7249-1789142400-1789153200@bmsfarmersmarket.com
SUMMARY:Farmers Market with Grilled Cheese Please and To Be Determinted
DESCRIPTION:Food Truck and Entertainment Subject to Change Without Notice.  Check the market’s social media for updates!
URL:http://bmsfarmersmarket.com/event/farmers-market-with-grilled-cheese-please-and-to-be-determinted-2
LOCATION:Martins Creek Municipal Parking Lot\, E Potomac Street at 1st Avenue\, Brunswick\, MD\, 21716\, United States
CATEGORIES:Outdoor Farmers Market
ORGANIZER;CN="Brunswick Main Street Farmers Market":MAILTO:info@bmsfarmersmarket.com
END:VEVENT
BEGIN:VEVENT
DTSTART;TZID=UTC:20260925T160000
DTEND;TZID=UTC:20260925T190000
DTSTAMP:20260423T232054
CREATED:20260402T235532Z
LAST-MODIFIED:20260402T235906Z
UID:7250-1790352000-1790362800@bmsfarmersmarket.com
SUMMARY:Farmers Market with MR Cheesecakes and Cary Knox
DESCRIPTION:Food Truck and Entertainment Subject to Change Without Notice.  Check the market’s social media for updates!
URL:http://bmsfarmersmarket.com/event/farmers-market-with-mr-cheesecakes-and-cary-knox-2
LOCATION:Martins Creek Municipal Parking Lot\, E Potomac Street at 1st Avenue\, Brunswick\, MD\, 21716\, United States
CATEGORIES:Outdoor Farmers Market
ORGANIZER;CN="Brunswick Main Street Farmers Market":MAILTO:info@bmsfarmersmarket.com
END:VEVENT
END:VCALENDAR