BEGIN:VCALENDAR
VERSION:2.0
PRODID:-//Brunswick Main Street Farmers Market - ECPv6.15.20//NONSGML v1.0//EN
CALSCALE:GREGORIAN
METHOD:PUBLISH
X-ORIGINAL-URL:http://bmsfarmersmarket.com
X-WR-CALDESC:Events for Brunswick Main Street Farmers Market
REFRESH-INTERVAL;VALUE=DURATION:PT1H
X-Robots-Tag:noindex
X-PUBLISHED-TTL:PT1H
BEGIN:VTIMEZONE
TZID:UTC
BEGIN:STANDARD
TZOFFSETFROM:+0000
TZOFFSETTO:+0000
TZNAME:UTC
DTSTART:20250101T000000
END:STANDARD
END:VTIMEZONE
BEGIN:VEVENT
DTSTART;TZID=UTC:20260814T160000
DTEND;TZID=UTC:20260814T190000
DTSTAMP:20260423T213309
CREATED:20260402T235515Z
LAST-MODIFIED:20260402T235905Z
UID:7247-1786723200-1786734000@bmsfarmersmarket.com
SUMMARY:Farmers Market with ThePitaKing and Dino Delray
DESCRIPTION:Food Truck and Entertainment Subject to Change Without Notice.  Check the market’s social media for updates!
URL:http://bmsfarmersmarket.com/event/farmers-market-with-thepitaking-and-dino-delray-2
LOCATION:Martins Creek Municipal Parking Lot\, E Potomac Street at 1st Avenue\, Brunswick\, MD\, 21716\, United States
CATEGORIES:Outdoor Farmers Market
ORGANIZER;CN="Brunswick Main Street Farmers Market":MAILTO:info@bmsfarmersmarket.com
END:VEVENT
BEGIN:VEVENT
DTSTART;TZID=UTC:20260828T160000
DTEND;TZID=UTC:20260828T190000
DTSTAMP:20260423T213309
CREATED:20260402T235516Z
LAST-MODIFIED:20260402T235905Z
UID:7248-1787932800-1787943600@bmsfarmersmarket.com
SUMMARY:Farmers Market with ThePitaKing and Nick Carras
DESCRIPTION:Food Truck and Entertainment Subject to Change Without Notice.  Check the market’s social media for updates!
URL:http://bmsfarmersmarket.com/event/farmers-market-with-thepitaking-and-nick-carras-2
LOCATION:Martins Creek Municipal Parking Lot\, E Potomac Street at 1st Avenue\, Brunswick\, MD\, 21716\, United States
CATEGORIES:Outdoor Farmers Market
ORGANIZER;CN="Brunswick Main Street Farmers Market":MAILTO:info@bmsfarmersmarket.com
END:VEVENT
END:VCALENDAR