BEGIN:VCALENDAR
VERSION:2.0
PRODID:-//Brunswick Main Street Farmers Market - ECPv6.15.20//NONSGML v1.0//EN
CALSCALE:GREGORIAN
METHOD:PUBLISH
X-WR-CALNAME:Brunswick Main Street Farmers Market
X-ORIGINAL-URL:http://bmsfarmersmarket.com
X-WR-CALDESC:Events for Brunswick Main Street Farmers Market
REFRESH-INTERVAL;VALUE=DURATION:PT1H
X-Robots-Tag:noindex
X-PUBLISHED-TTL:PT1H
BEGIN:VTIMEZONE
TZID:UTC
BEGIN:STANDARD
TZOFFSETFROM:+0000
TZOFFSETTO:+0000
TZNAME:UTC
DTSTART:20250101T000000
END:STANDARD
END:VTIMEZONE
BEGIN:VEVENT
DTSTART;TZID=UTC:20260410T160000
DTEND;TZID=UTC:20260410T190000
DTSTAMP:20260423T162709
CREATED:20260402T234422Z
LAST-MODIFIED:20260402T235904Z
UID:7210-1775836800-1775847600@bmsfarmersmarket.com
SUMMARY:Opening Day with Bub-B-Que and Mark Eastman
DESCRIPTION:PLEASE NOTE TEMPORARY LOCATION DUE TO B&O PARK CONSTRUCTION
URL:http://bmsfarmersmarket.com/event/opening-day-with-bub-b-que-and-mark-eastman
LOCATION:Square Corner Park\, 1 E Potomac St\, Brunswick\, MD\, 21716\, United States
CATEGORIES:Outdoor Farmers Market
ORGANIZER;CN="Brunswick Main Street Farmers Market":MAILTO:info@bmsfarmersmarket.com
END:VEVENT
END:VCALENDAR